BEGIN:VCALENDAR
VERSION:2.0
PRODID:-//Mid-East Commission Area Agency On Aging - ECPv4.6.20.1//NONSGML v1.0//EN
CALSCALE:GREGORIAN
METHOD:PUBLISH
X-WR-CALNAME:Mid-East Commission Area Agency On Aging
X-ORIGINAL-URL:http://mecaaa.org
X-WR-CALDESC:Events for Mid-East Commission Area Agency On Aging
BEGIN:VEVENT
DTSTART;TZID=UTC+0:20210727T140000
DTEND;TZID=UTC+0:20210727T150000
DTSTAMP:20260426T040024
CREATED:20210608T180157Z
LAST-MODIFIED:20210608T180157Z
UID:885-1627394400-1627398000@mecaaa.org
SUMMARY:VIRTUAL CAREGIVER ACADEMY
DESCRIPTION:The Caregiver Academy provides practical education and support one class at a time\, so you can be a confident\, courageous\, empowered caregiver. \nZoom Virtual Classes\nClass Time:  4th Tuesday of the month\n2:00 pm to 3:00 pm \n
URL:http://mecaaa.org/event/virtual-caregiver-academy-2/
END:VEVENT
END:VCALENDAR