BEGIN:VCALENDAR
VERSION:2.0
PRODID:-//Mid-East Commission Area Agency On Aging - ECPv4.6.20.1//NONSGML v1.0//EN
CALSCALE:GREGORIAN
METHOD:PUBLISH
X-WR-CALNAME:Mid-East Commission Area Agency On Aging
X-ORIGINAL-URL:http://mecaaa.org
X-WR-CALDESC:Events for Mid-East Commission Area Agency On Aging
BEGIN:VEVENT
DTSTART;TZID=UTC+0:20190206T120000
DTEND;TZID=UTC+0:20190206T130000
DTSTAMP:20260425T110546
CREATED:20190102T151735Z
LAST-MODIFIED:20190102T151735Z
UID:541-1549454400-1549458000@mecaaa.org
SUMMARY:Eastern Communities Resource Coalition (ECRC) Meeting
DESCRIPTION:The Eastern Communities Resource Coalition (ECRC) is a group for professionals serving individuals in Bertie & Martin Counties. The purpose of this group is to promote collaboration and coordination among service providers in order to link consumers with resources while maintaining a “no wrong door” approach. We invite all service providers to attend who wish to connect with professionals working to maximize resources within rural communities. \n
URL:http://mecaaa.org/event/eastern-communities-resource-coalition-ecrc-meeting-9/
LOCATION:201 Lee Street\, Williamston\, North Carolina\, 27892
END:VEVENT
END:VCALENDAR