BEGIN:VCALENDAR
VERSION:2.0
PRODID:-//Mid-East Commission Area Agency On Aging - ECPv4.6.20.1//NONSGML v1.0//EN
CALSCALE:GREGORIAN
METHOD:PUBLISH
X-WR-CALNAME:Mid-East Commission Area Agency On Aging
X-ORIGINAL-URL:http://mecaaa.org
X-WR-CALDESC:Events for Mid-East Commission Area Agency On Aging
BEGIN:VEVENT
DTSTART;TZID=UTC+0:20220202T120000
DTEND;TZID=UTC+0:20220202T130000
DTSTAMP:20260424T033640
CREATED:20211221T182311Z
LAST-MODIFIED:20211221T182311Z
UID:967-1643803200-1643806800@mecaaa.org
SUMMARY:Eastern Communities Resource Coalition (ECRC) Meeting
DESCRIPTION:Join us for this monthly professional partnership meeting for those serving Martin\, Bertie & Hertford Counties. Meetings are currently being held the 1st Wednesday of each month\, 12pm-1pm\, via Zoom. \n
URL:http://mecaaa.org/event/eastern-communities-resource-coalition-ecrc-meeting-37/
END:VEVENT
END:VCALENDAR