BEGIN:VCALENDAR
VERSION:2.0
PRODID:-//Mid-East Commission Area Agency On Aging - ECPv4.6.20.1//NONSGML v1.0//EN
CALSCALE:GREGORIAN
METHOD:PUBLISH
X-WR-CALNAME:Mid-East Commission Area Agency On Aging
X-ORIGINAL-URL:http://mecaaa.org
X-WR-CALDESC:Events for Mid-East Commission Area Agency On Aging
BEGIN:VEVENT
DTSTART;TZID=UTC+0:20220124T120000
DTEND;TZID=UTC+0:20220124T130000
DTSTAMP:20260424T050543
CREATED:20211221T181554Z
LAST-MODIFIED:20211221T181554Z
UID:964-1643025600-1643029200@mecaaa.org
SUMMARY:Beaufort County Resource Connection (BCRC) Meeting
DESCRIPTION:Join us for this bi-monthly professional partnership meeting for those serving Beaufort County. \n
URL:http://mecaaa.org/event/beaufort-county-resource-connection-bcrc-meeting/
LOCATION:310 W. Main Street\, Washington\, NC\, 27889\, United States
END:VEVENT
END:VCALENDAR