BEGIN:VCALENDAR
VERSION:2.0
PRODID:-//Mid-East Commission Area Agency On Aging - ECPv4.6.20.1//NONSGML v1.0//EN
CALSCALE:GREGORIAN
METHOD:PUBLISH
X-WR-CALNAME:Mid-East Commission Area Agency On Aging
X-ORIGINAL-URL:http://mecaaa.org
X-WR-CALDESC:Events for Mid-East Commission Area Agency On Aging
BEGIN:VEVENT
DTSTART;TZID=UTC+0:20260211T090000
DTEND;TZID=UTC+0:20260211T110000
DTSTAMP:20260420T105349
CREATED:20260204T223400Z
LAST-MODIFIED:20260204T223400Z
UID:1422-1770800400-1770807600@mecaaa.org
SUMMARY:A Matter of Balance Participant Series
DESCRIPTION:A Matter of Balance is a program designed to reduce the fear of falling and increase activity levels among older adults. \nWho should attend A Matter of Balance Program?\nThe program was designed to benefit older adults who: \n\nAre concerned about falls\nHave sustained falls in the past\nRestrict activities because of concerns about falling\nAre interested in improving flexibility\, balance and strength\nAre age 60 or older\, community-dwelling and able to problem solve\n\nHow does it work?\n\nA Matter of Balance community classes  offered in-person.\nThe in-person A Matter of Balance includes 8 two-hour sessions meeting weekly.\nLed by two trained facilitators for a small group of 8-12 participants.\n\n
URL:http://mecaaa.org/event/a-matter-of-balance-participant-series-4/
LOCATION:4551 County Home Road\, Greenville\, North Carolina\, 27858
END:VEVENT
END:VCALENDAR